BEGIN:VCALENDAR
VERSION:2.0
PRODID:-//ChamberMaster//Event Calendar 2.0//EN
METHOD:PUBLISH
X-PUBLISHED-TTL:P1H
REFRESH-INTERVAL:P1H
CALSCALE:GREGORIAN
BEGIN:VTIMEZONE
TZID:America/New_York
BEGIN:DAYLIGHT
RRULE:FREQ=YEARLY;BYMONTH=3;BYDAY=2SU
DTSTART:20070101T000000
TZOFFSETFROM:-0500
TZOFFSETTO:-0400
TZNAME:Eastern Daylight Time
END:DAYLIGHT
BEGIN:STANDARD
RRULE:FREQ=YEARLY;BYMONTH=11;BYDAY=1SU
DTSTART:20070101T000000
TZOFFSETFROM:-0400
TZOFFSETTO:-0500
TZNAME:Eastern Standard Time
END:STANDARD
END:VTIMEZONE
BEGIN:VEVENT
DTSTART;TZID=America/New_York:20210824T170000
DTEND;TZID=America/New_York:20210824T210000
X-MICROSOFT-CDO-ALLDAYEVENT:FALSE
SUMMARY:Amesbury Educational Foundation's Flatbread Fundraiser
DESCRIPTION:Amesbury Educational Foundation\, Inc.'s (AEFI)Flatbread Fundraiser Tuesday\, August 24th 5 PM - 9 PMJoin us for a yummy night out to help support our educators! By joining us for our Tuesday\, August 24th fundraiser\, you are helping the Amesbury Educational Foundation\, Inc.'s (AEFI) ability to provide grants to educators in our schools. Since 1981 AEFI has provided funding to Amesbury schools for a variety of projects. Every penny contributed stays in our community to help guarantee an excellent education for our children\, leading to higher quality jobs and an enhanced quality of life for generations to come.  To date\, AEFI has awarded over $452\,000 in Grants to Amesbury School educators! Funds raised by the Foundation are primarily distributed in the form of grants to teachers and administrators using a competitive grant process. Grant proposals are encouraged which demonstrate innovation\, are collaborative\, have a potentially broad impact upon the school district.For more information about AEFI please visit them at https://www.aefionline.com
X-ALT-DESC;FMTTYPE=text/html:<!DOCTYPE html><html><head><title></title></head><body aria-disabled="false"><p style="text-align: center\;"><span style="font-family: Arial\, Helvetica\, sans-serif\; font-size: 24px\;">Amesbury Educational Foundation\, Inc.&#39\;s (AEFI)</span></p><p style="text-align: center\;"><span style="font-size: 24px\;">Flatbread Fundraiser&nbsp\;</span></p><p style="text-align: center\;"><span style="font-size: 24px\;">Tuesday\, August 24th&nbsp\;</span></p><p style="text-align: center\;"><span style="font-size: 24px\;">5 PM - 9 PM</span></p><p><span style="font-family: Arial\, Helvetica\, sans-serif\; font-size: 18px\;">Join us for a yummy night out to help support our educators! By joining us for our Tuesday\, August 24th fundraiser\, you are helping the Amesbury Educational Foundation\, Inc.&#39\;s (AEFI) ability to provide grants to educators in our schools.&nbsp\;</span></p><p style="margin-top:0in\;margin-right:0in\;margin-bottom:18.75pt\;margin-left:  0in\;background:white\;"><span style="font-family: Arial\, Helvetica\, sans-serif\; font-size: 18px\;">Since 1981 AEFI has provided funding to Amesbury schools for a variety of projects.<span style="color: rgb(0\, 0\, 0)\; font-style: normal\; font-variant-ligatures: normal\; font-variant-caps: normal\; font-weight: 400\; letter-spacing: normal\; orphans: 2\; text-align: start\; text-indent: 0px\; text-transform: none\; white-space: normal\; widows: 2\; word-spacing: 0px\; -webkit-text-stroke-width: 0px\; background-color: rgb(255\, 255\, 255)\; text-decoration-thickness: initial\; text-decoration-style: initial\; text-decoration-color: initial\; float: none\; display: inline !important\;">&nbsp\;</span>Every penny contributed stays in our community to help guarantee an excellent education for our children\, leading to higher quality jobs and an enhanced quality of life for generations to come. &nbsp\;<strong fr-original-style="" style="font-weight: 700\;">To date\, AEFI has awarded over $452\,000 in Grants to Amesbury School educators!&nbsp\;</strong>Funds raised by the Foundation are primarily distributed in the form of grants to teachers and administrators using a competitive grant process. Grant p<span style="color: rgb(0\, 0\, 0)\; font-style: normal\; font-variant-ligatures: normal\; font-variant-caps: normal\; font-weight: 400\; letter-spacing: normal\; orphans: 2\; text-align: start\; text-indent: 0px\; text-transform: none\; white-space: normal\; widows: 2\; word-spacing: 0px\; -webkit-text-stroke-width: 0px\; background-color: rgb(255\, 255\, 255)\; text-decoration-thickness: initial\; text-decoration-style: initial\; text-decoration-color: initial\; float: none\; display: inline !important\;">roposals are encouraged which demonstrate innovation\, are collaborative\, have a potentially broad impact upon the school district.</span></span></p><p style="margin-top:0in\;margin-right:0in\;margin-bottom:18.75pt\;margin-left:  0in\;background:white\;"><span style="font-family: Arial\, Helvetica\, sans-serif\; font-size: 18px\;"><span style="color: rgb(0\, 0\, 0)\; font-style: normal\; font-variant-ligatures: normal\; font-variant-caps: normal\; font-weight: 400\; letter-spacing: normal\; orphans: 2\; text-align: start\; text-indent: 0px\; text-transform: none\; white-space: normal\; widows: 2\; word-spacing: 0px\; -webkit-text-stroke-width: 0px\; background-color: rgb(255\, 255\, 255)\; text-decoration-thickness: initial\; text-decoration-style: initial\; text-decoration-color: initial\; float: none\; display: inline !important\;">For more information about AEFI please visit them at <a fr-original-style="" href="https://www.aefionline.com/" style="user-select: auto\; color: inherit\;">https://www.aefionline.com</a></span></span></p></body></html>
LOCATION:
UID:e.680.383215
SEQUENCE:3
DTSTAMP:20260425T163156Z
URL:https://members.amesburychamber.com/member-events/Details/amesbury-educational-foundation-s-flatbread-fundraiser-380117?sourceTypeId=Hub
END:VEVENT
END:VCALENDAR
